BEGIN:VCALENDAR
VERSION:2.0
PRODID:-//Fawn Ridge Maintenance Association - ECPv6.15.20//NONSGML v1.0//EN
CALSCALE:GREGORIAN
METHOD:PUBLISH
X-ORIGINAL-URL:https://fawnridge.org
X-WR-CALDESC:Events for Fawn Ridge Maintenance Association
REFRESH-INTERVAL;VALUE=DURATION:PT1H
X-Robots-Tag:noindex
X-PUBLISHED-TTL:PT1H
BEGIN:VTIMEZONE
TZID:UTC
BEGIN:STANDARD
TZOFFSETFROM:+0000
TZOFFSETTO:+0000
TZNAME:UTC
DTSTART:20220101T000000
END:STANDARD
END:VTIMEZONE
BEGIN:VEVENT
DTSTART;TZID=UTC:20251008T193000
DTEND;TZID=UTC:20251008T203000
DTSTAMP:20260424T190917
CREATED:20250723T025040Z
LAST-MODIFIED:20250723T025040Z
UID:2440-1759951800-1759955400@fawnridge.org
SUMMARY:Board of Directors Meeting
DESCRIPTION:Wednesday – October 8th\, 2025 7:00 pm – 8:30 pm – BOD Meeting – Maureen B. Gauzza Library and Zoom\n \nThe Fawn Ridge Maintenance Association would like to invite all members of the community to join us for the BOD meeting.
URL:https://fawnridge.org/event/board-of-directors-meeting-4/
LOCATION:Maureen B. Gauzza Public Library\, 11211 Countryway Blvd\, Tampa\, FL\, 33626\, United States
CATEGORIES:BOD Meeting
END:VEVENT
BEGIN:VEVENT
DTSTART;TZID=UTC:20250910T190000
DTEND;TZID=UTC:20250910T203000
DTSTAMP:20260424T190917
CREATED:20250723T024814Z
LAST-MODIFIED:20250723T024848Z
UID:2436-1757530800-1757536200@fawnridge.org
SUMMARY:Board of Directors Meeting
DESCRIPTION:Wednesday – September 10\, 2025 7:00 pm – 8:30 pm – BOD Meeting – Maureen B. Gauzza Library and Zoom\n \nThe Fawn Ridge Maintenance Association would like to invite all members of the community to join us for the BOD meeting.
URL:https://fawnridge.org/event/board-of-directors-meeting-3/
LOCATION:Maureen B. Gauzza Public Library\, 11211 Countryway Blvd\, Tampa\, FL\, 33626\, United States
CATEGORIES:BOD Meeting
END:VEVENT
BEGIN:VEVENT
DTSTART;TZID=UTC:20250813T190000
DTEND;TZID=UTC:20250813T203000
DTSTAMP:20260424T190917
CREATED:20250723T024623Z
LAST-MODIFIED:20250723T024924Z
UID:2434-1755111600-1755117000@fawnridge.org
SUMMARY:Board of Directors Meeting
DESCRIPTION:Wednesday – August 13\, 2025 7:00 pm – 8:30 pm – BOD Meeting – Maureen B. Gauzza Library and Zoom\n \nThe Fawn Ridge Maintenance Association would like to invite all members of the community to join us for the BOD meeting.
URL:https://fawnridge.org/event/board-meeting/
LOCATION:Maureen B. Gauzza Public Library\, 11211 Countryway Blvd\, Tampa\, FL\, 33626\, United States
CATEGORIES:BOD Meeting
END:VEVENT
BEGIN:VEVENT
DTSTART;TZID=UTC:20250108T190000
DTEND;TZID=UTC:20250108T203000
DTSTAMP:20260424T190917
CREATED:20240905T060053Z
LAST-MODIFIED:20241212T005115Z
UID:2290-1736362800-1736368200@fawnridge.org
SUMMARY:Board of Directors Meeting
DESCRIPTION:Wednesday – January 8\, 2025 7:00 pm – 8:30 pm – BOD Meeting – Maureen B. Gauzza Library and Zoom\n \nThe Fawn Ridge Maintenance Association would like to invite all members of the community to join us for the January BOD meeting.
URL:https://fawnridge.org/event/board-of-directors-meeting/
LOCATION:Maureen B. Gauzza Public Library\, 11211 Countryway Blvd\, Tampa\, FL\, 33626\, United States
CATEGORIES:BOD Meeting
END:VEVENT
BEGIN:VEVENT
DTSTART;TZID=UTC:20230927T190000
DTEND;TZID=UTC:20230927T200000
DTSTAMP:20260424T190917
CREATED:20230921T140033Z
LAST-MODIFIED:20230922T175630Z
UID:2160-1695841200-1695844800@fawnridge.org
SUMMARY:Special BOD Meeting - Updates to the Architectural Guidelines and Deed Restrictions and Violation Processing
DESCRIPTION:September 27th\, 7:00 pm – 8:00 pm – Special Meeting – Zoom Meeting – Updates to the Architectural Guidelines and Deed Restrictions and Violation Processing\n \nThe Fawn Ridge Association would like to invite all members of the community to join us for a Special Meeting\, on Wednesday\, September 27th at 7:00 pm via Zoom. We will be going over the new updates for the Architectural Guidelines Verison 1.4 and Deed Restrictions and Violation Processing Version 1.2. There will be a board vote on these new guidelines to pass the changes. If you would like to speak to the Board\, please sign up within the first 10 minutes of the meeting\, so we can call on you during the General Discussion portion of the meeting where you will have 3 mins to speak.\n\nJoin Zoom Meeting (If you are having issues\, please contact Cam at cmclark@wisepropertymanagement.com)\nMeeting ID: Emailed.\nPasscode: Emailed.\n\nThank you and we look forward to seeing you all at the meeting.\n\n\n\n9-22-2022 Update: Architectural Guidelines Version 1.4-Draft has been updated to remove “Shed/Pergolas/Gazebos” in Section 23\n\nAgenda Document\nArchitectural Guidelines Version 1.4-Draft\nDeed Restrictions and Violation Processing Version 1.2-Draft\n\n\n\n \nFawn Ridge Maintenance Association\, Inc.
URL:https://fawnridge.org/event/special-bod-meeting-zoom-meeting-september-27th-700-pm-800-pm-updates-to-the-architectural-guidelines-and-deed-restrictions-and-violation-processing/
LOCATION:Zoom Meeting
CATEGORIES:BOD Meeting
END:VEVENT
BEGIN:VEVENT
DTSTART;TZID=UTC:20230913T190000
DTEND;TZID=UTC:20230913T200000
DTSTAMP:20260424T190917
CREATED:20230901T154451Z
LAST-MODIFIED:20230912T032837Z
UID:2146-1694631600-1694635200@fawnridge.org
SUMMARY:Board Meeting - September 13th
DESCRIPTION:Wednesday – September 13th\, 7:00 pm – 8:00 pm – BOD Meeting – Maureen B. Gauzza Library\n \nThe Fawn Ridge Maintenance Association would like to invite all members of the community to join us for the September BOD meeting\, on Wednesday\, September 13th\, from 7-8 PM at Maureen B. Gauzza Library.\n\nWe will be going over some major changes to our documents including the New Florida Statutes 720.304 and 720.3045. Please take some time to review the new law and the documents below that will be address this Board Meeting.\n\nii. Policy\, Procedures\, Fining Policy v1.2 – Draft\niii. Architectural Guidelines v1.4 – Draft\niv. Web and Communication Policy v1.1 – Draft\n\nWe will also be going over updates on the Community Border Wall\, Entrance Sign\, and Landscaping.\n\nDiscuss plans to participate in the National Night Out on Tuesday\, October 3rd.\n\nWe are still looking for volunteers that can assist in the Social and the Fining Committee. If you can volunteer\, please contact me at president@fawnridge.org.\n\nThank you and we look forward to seeing you all at the meeting.\nSeptember’s BOD Meeting Agenda Link\nAugust’s BOD Meeting Minutes Link
URL:https://fawnridge.org/event/board-meeting-september-13th/
LOCATION:Maureen B. Gauzza Public Library\, 11211 Countryway Blvd\, Tampa\, FL\, 33626\, United States
CATEGORIES:BOD Meeting
END:VEVENT
BEGIN:VEVENT
DTSTART;TZID=UTC:20230809T190000
DTEND;TZID=UTC:20230809T200000
DTSTAMP:20260424T190917
CREATED:20230515T164827Z
LAST-MODIFIED:20230804T185715Z
UID:2024-1691607600-1691611200@fawnridge.org
SUMMARY:BOD Meeting
DESCRIPTION:August’s BOD Meeting Agenda \nJuly’s BOD Meeting Minutes
URL:https://fawnridge.org/event/bod-meeting-2/
LOCATION:Maureen B. Gauzza Public Library\, 11211 Countryway Blvd\, Tampa\, FL\, 33626\, United States
CATEGORIES:BOD Meeting
END:VEVENT
BEGIN:VEVENT
DTSTART;TZID=UTC:20230614T190000
DTEND;TZID=UTC:20230614T200000
DTSTAMP:20260424T190917
CREATED:20230515T164655Z
LAST-MODIFIED:20230613T193622Z
UID:2022-1686769200-1686772800@fawnridge.org
SUMMARY:BOD Meeting
DESCRIPTION:May Meeting Minutes \nJune 14th BOD Meeting Agenda
URL:https://fawnridge.org/event/bod-meeting/
LOCATION:Maureen B. Gauzza Public Library\, 11211 Countryway Blvd\, Tampa\, FL\, 33626\, United States
CATEGORIES:BOD Meeting
ATTACH;FMTTYPE=image/jpeg:https://fawnridge.org/wp-content/uploads/2023/05/What-Is-HOA.jpeg
END:VEVENT
BEGIN:VEVENT
DTSTART;TZID=UTC:20230412T190000
DTEND;TZID=UTC:20230412T200000
DTSTAMP:20260424T190917
CREATED:20230323T044330Z
LAST-MODIFIED:20230327T234056Z
UID:1182-1681326000-1681329600@fawnridge.org
SUMMARY:BOD Meeting - April 12th
DESCRIPTION:April 12 @ 7:00 pm – 8:00 pm via Zoom \nAll members are welcome to join this meeting via Zoom. Please check your emails the week prior to get the Zoom Link and Login Information. You can also log in to your account via Wise Portal to also get the info. \nSince we have limited time\, there will be a 15 min sign-up sheet for General Discussion prior to the meeting at 7:00 pm. \nPlease be sure to sign up or contact Cam at cmclark@wisepropertymanagement.com
URL:https://fawnridge.org/event/bod-meeting-april-12th/
LOCATION:Zoom Meeting
CATEGORIES:BOD Meeting
ATTACH;FMTTYPE=image/jpeg:https://fawnridge.org/wp-content/uploads/2023/03/pexels-photo-6476254.jpeg
END:VEVENT
END:VCALENDAR