BEGIN:VCALENDAR
VERSION:2.0
PRODID:-//Fawn Ridge Maintenance Association - ECPv6.15.20//NONSGML v1.0//EN
CALSCALE:GREGORIAN
METHOD:PUBLISH
X-WR-CALNAME:Fawn Ridge Maintenance Association
X-ORIGINAL-URL:https://fawnridge.org
X-WR-CALDESC:Events for Fawn Ridge Maintenance Association
REFRESH-INTERVAL;VALUE=DURATION:PT1H
X-Robots-Tag:noindex
X-PUBLISHED-TTL:PT1H
BEGIN:VTIMEZONE
TZID:UTC
BEGIN:STANDARD
TZOFFSETFROM:+0000
TZOFFSETTO:+0000
TZNAME:UTC
DTSTART:20220101T000000
END:STANDARD
END:VTIMEZONE
BEGIN:VEVENT
DTSTART;TZID=UTC:20230429T080000
DTEND;TZID=UTC:20230429T140000
DTSTAMP:20260424T215627
CREATED:20240420T080057Z
LAST-MODIFIED:20240418T175330Z
UID:1185-1682755200-1682776800@fawnridge.org
SUMMARY:Community Garage/Yard Sale - April 20th
DESCRIPTION:Okay FAWN RIDGERS!! Time for spring cleaning! \nApril 29\, 2023 is the scheduled Fawn Ridge Community Sale \nTime: 8 am to 2 pm \nPlease put a sign out at your cross street announcing your garage sale…with an arrow pointing in your direction. \nBe prepared for early birds sometimes as early as 7 am to get first pickins! \nA large garage sale sign will be placed at the entrance on the Sunday before the sale. Next Door and other social media sites will have a post announcing the sale. \nPlease contact Grace Hutchinson via Email\, if you would like Salvation Army to stop at your address at the end of the Garage Sale. They will arrive at Fawn Ridge at 2 pm and will pick up items left on the end of the driveways for those who have signed up. Salvation Army will accept small household items\, clothes\, etc. Slightly used furniture in good shape is ok\, too. No TV wall units\, entertainment centers\, etc. For a more complete list check their What to Donate webpage.
URL:https://fawnridge.org/event/community-yard-sale-april-20th/
LOCATION:Fawn Ridge Community\, 9005 Citrus Park Dr.\, Tampa\, FL\, United States
CATEGORIES:Community Yard Sale
ATTACH;FMTTYPE=image/jpeg:https://fawnridge.org/wp-content/uploads/2023/03/pexels-photo-4923440.jpeg
END:VEVENT
END:VCALENDAR